BEGIN:VCALENDAR
VERSION:2.0
PRODID:GIGPRESS 2.0 WORDPRESS PLUGIN
CALSCALE:GREGORIAN
X-WR-TIMEZONE:Etc/GMT
METHOD:PUBLISH
BEGIN:VTIMEZONE
TZID:GMT
BEGIN:STANDARD
DTSTART:20071028T010000
TZOFFSETTO:+0000
TZOFFSETFROM:+0000
END:STANDARD
END:VTIMEZONE
BEGIN:VEVENT
SUMMARY:Rachel Rodriguez at Dee's Lounge
DESCRIPTION:Notes: Cinco at Dee's Fiesta! No Minors
LOCATION:Dee's Lounge\, 102 E Palestine Ave\, Madison\, US
UID:20260505T190000Z-836-joshuabcrutcher@hotmail.com
URL:http://www.rachelrodriguez.com/shows/
DTSTART;VALUE=DATE-TIME;TZID=GMT:20260505T190000Z
DTEND;VALUE=DATE-TIME;TZID=GMT:20260505T190000Z
DTSTAMP:20260423T111830Z
END:VEVENT
END:VCALENDAR